BEGIN:VCALENDAR
VERSION:2.0
PRODID:-//hacksw/handcal//NONSGML v1.0//EN
BEGIN:VEVENT
UID:warsztaty-autorskie.zacheta
DTSTAMP:20260714T200705Z
DTSTART:20260714T200705Z
SUMMARY:warsztaty autorskie
END:VEVENT
END:VCALENDAR