BEGIN:VCALENDAR
VERSION:2.0
PRODID:-//hacksw/handcal//NONSGML v1.0//EN
BEGIN:VEVENT
UID:visual-vernacular.zacheta
DTSTAMP:20260716T050658Z
DTSTART:20260716T050658Z
DTEND:20260716T050658Z
SUMMARY:Visual Vernacular
END:VEVENT
END:VCALENDAR