BEGIN:VCALENDAR
VERSION:2.0
PRODID:-//hacksw/handcal//NONSGML v1.0//EN
BEGIN:VEVENT
UID:uwalnianie-ciala.zacheta
DTSTAMP:20260713T042724Z
DTSTART:20260713T042724Z
SUMMARY:Uwalnianie ciała
END:VEVENT
END:VCALENDAR