BEGIN:VCALENDAR
VERSION:2.0
PRODID:-//hacksw/handcal//NONSGML v1.0//EN
BEGIN:VEVENT
UID:tajemnice-zywiolow.zacheta
DTSTAMP:20260716T082604Z
DTSTART:20260716T082604Z
SUMMARY:Tajemnice żywiołów
END:VEVENT
END:VCALENDAR