BEGIN:VCALENDAR
VERSION:2.0
PRODID:-//hacksw/handcal//NONSGML v1.0//EN
BEGIN:VEVENT
UID:serce-slonce.zacheta
DTSTAMP:20260714T090450Z
DTSTART:20260714T090450Z
SUMMARY:Serce. Słońce
END:VEVENT
END:VCALENDAR