BEGIN:VCALENDAR
VERSION:2.0
PRODID:-//hacksw/handcal//NONSGML v1.0//EN
BEGIN:VEVENT
UID:ptaki.zacheta
DTSTAMP:20260713T072344Z
DTSTART:20260713T072344Z
DTEND:20260713T082344Z
SUMMARY:Ptaki
END:VEVENT
END:VCALENDAR