BEGIN:VCALENDAR
VERSION:2.0
PRODID:-//hacksw/handcal//NONSGML v1.0//EN
BEGIN:VEVENT
UID:przestrzenie-6.zacheta
DTSTAMP:20260717T091200Z
DTSTART:20260717T091200Z
SUMMARY:Przestrzenie
END:VEVENT
END:VCALENDAR