BEGIN:VCALENDAR
VERSION:2.0
PRODID:-//hacksw/handcal//NONSGML v1.0//EN
BEGIN:VEVENT
UID:o-czulosci.zacheta
DTSTAMP:20260718T080524Z
DTSTART:20260718T080524Z
SUMMARY:O czułości
END:VEVENT
END:VCALENDAR