BEGIN:VCALENDAR
VERSION:2.0
PRODID:-//hacksw/handcal//NONSGML v1.0//EN
BEGIN:VEVENT
UID:mroczne-przesilenie.zacheta
DTSTAMP:20260717T051949Z
DTSTART:20260717T051949Z
SUMMARY:Mroczne przesilenie
END:VEVENT
END:VCALENDAR