BEGIN:VCALENDAR
VERSION:2.0
PRODID:-//hacksw/handcal//NONSGML v1.0//EN
BEGIN:VEVENT
UID:miejska-dzungla.zacheta
DTSTAMP:20260715T074223Z
DTSTART:20260715T074223Z
SUMMARY:Miejska dżungla 
END:VEVENT
END:VCALENDAR