BEGIN:VCALENDAR
VERSION:2.0
PRODID:-//hacksw/handcal//NONSGML v1.0//EN
BEGIN:VEVENT
UID:mapa-skarbow.zacheta
DTSTAMP:20260713T051902Z
DTSTART:20260713T051902Z
SUMMARY:Mapa skarbów
END:VEVENT
END:VCALENDAR