BEGIN:VCALENDAR
VERSION:2.0
PRODID:-//hacksw/handcal//NONSGML v1.0//EN
BEGIN:VEVENT
UID:mapa-pamieci.zacheta
DTSTAMP:20260716T043913Z
DTSTART:20260716T043913Z
SUMMARY:Mapa pamięci
END:VEVENT
END:VCALENDAR