BEGIN:VCALENDAR
VERSION:2.0
PRODID:-//hacksw/handcal//NONSGML v1.0//EN
BEGIN:VEVENT
UID:koniec-swiata.zacheta
DTSTAMP:20260713T053304Z
DTSTART:20260713T053304Z
SUMMARY:Koniec świata
END:VEVENT
END:VCALENDAR