BEGIN:VCALENDAR
VERSION:2.0
PRODID:-//hacksw/handcal//NONSGML v1.0//EN
BEGIN:VEVENT
UID:konferencja-prasowa.zacheta
DTSTAMP:20260711T202003Z
DTSTART:20260711T202003Z
SUMMARY:konferencja prasowa
END:VEVENT
END:VCALENDAR