BEGIN:VCALENDAR
VERSION:2.0
PRODID:-//hacksw/handcal//NONSGML v1.0//EN
BEGIN:VEVENT
UID:jaremianka-biografia.zacheta
DTSTAMP:20260716T031914Z
DTSTART:20260716T031914Z
SUMMARY:Jaremianka. Biografia
END:VEVENT
END:VCALENDAR