BEGIN:VCALENDAR
VERSION:2.0
PRODID:-//hacksw/handcal//NONSGML v1.0//EN
BEGIN:VEVENT
UID:janusz-baldyga.zacheta
DTSTAMP:20260715T054257Z
DTSTART:20260715T054257Z
SUMMARY:Janusz Bałdyga 
END:VEVENT
END:VCALENDAR