BEGIN:VCALENDAR
VERSION:2.0
PRODID:-//hacksw/handcal//NONSGML v1.0//EN
BEGIN:VEVENT
UID:instal-akcje.zacheta
DTSTAMP:20260713T072627Z
DTSTART:20260713T072627Z
SUMMARY:Instal_Akcje
END:VEVENT
END:VCALENDAR