BEGIN:VCALENDAR
VERSION:2.0
PRODID:-//hacksw/handcal//NONSGML v1.0//EN
BEGIN:VEVENT
UID:gry-planszowe.zacheta
DTSTAMP:20260714T033752Z
DTSTART:20260714T033752Z
SUMMARY:Gry planszowe
END:VEVENT
END:VCALENDAR