BEGIN:VCALENDAR
VERSION:2.0
PRODID:-//hacksw/handcal//NONSGML v1.0//EN
BEGIN:VEVENT
UID:glos-rudzienka.zacheta
DTSTAMP:20260712T011138Z
DTSTART:20260712T011138Z
SUMMARY:„Głos Rudzienka”
END:VEVENT
END:VCALENDAR