BEGIN:VCALENDAR
VERSION:2.0
PRODID:-//hacksw/handcal//NONSGML v1.0//EN
BEGIN:VEVENT
UID:giorgio-morandi.zacheta
DTSTAMP:20260715T091013Z
DTSTART:20260715T091013Z
SUMMARY:Giorgio Morandi
END:VEVENT
END:VCALENDAR