BEGIN:VCALENDAR
VERSION:2.0
PRODID:-//hacksw/handcal//NONSGML v1.0//EN
BEGIN:VEVENT
UID:factoria-przyjemnosci.zacheta
DTSTAMP:20260715T053330Z
DTSTART:20260715T053330Z
SUMMARY:Faktoria przyjemności
END:VEVENT
END:VCALENDAR