BEGIN:VCALENDAR
VERSION:2.0
PRODID:-//hacksw/handcal//NONSGML v1.0//EN
BEGIN:VEVENT
UID:enkaustyka.zacheta
DTSTAMP:20260713T072505Z
DTSTART:20260713T072505Z
SUMMARY:Enkaustyka
END:VEVENT
END:VCALENDAR