BEGIN:VCALENDAR
VERSION:2.0
PRODID:-//hacksw/handcal//NONSGML v1.0//EN
BEGIN:VEVENT
UID:dzikie-twory.zacheta
DTSTAMP:20260717T095253Z
DTSTART:20260717T095253Z
SUMMARY:Dzikie twory
END:VEVENT
END:VCALENDAR