BEGIN:VCALENDAR
VERSION:2.0
PRODID:-//hacksw/handcal//NONSGML v1.0//EN
BEGIN:VEVENT
UID:65.zacheta
DTSTAMP:20260713T101301Z
DTSTART:20260713T101301Z
SUMMARY:Екскурсія українською мовою
END:VEVENT
END:VCALENDAR