BEGIN:VCALENDAR
VERSION:2.0
PRODID:-//hacksw/handcal//NONSGML v1.0//EN
BEGIN:VEVENT
UID:2.zacheta
DTSTAMP:20260715T051023Z
DTSTART:20260715T051023Z
SUMMARY:Экскурсия по выставке «Холодная революция» на русском языке
END:VEVENT
END:VCALENDAR